BEGIN:VCALENDAR
VERSION:2.0
CALSCALE:GREGORIAN
PRODID:adamgibbons/ics
METHOD:PUBLISH
X-PUBLISHED-TTL:PT1H
BEGIN:VEVENT
UID:11@nafarroa.agendak.eus
SUMMARY:Concentración Yala Nafarroa por Palestina
DTSTAMP:20260420T202658Z
DTSTART:20260424T173000Z
DTEND:20260424T180000Z
DESCRIPTION:Este viernes Yala Erribera nos volveremos a concentrar contra l
	a guerra y el\ngenocidio.
URL:https://nafarroa.agendak.eus/event/concentracion-yala-nafarroa-por-pale
	stina
LOCATION:Plaza de Los Fueros\, Tudela - Plaza de Los Fueros\, Tudela
STATUS:CONFIRMED
CATEGORIES:
X-ALT-DESC;FMTTYPE=text/html:<p>Este viernes Yala Erribera nos volveremos a
	 concentrar contra la guerra y el genocidio.</p>
BEGIN:VALARM
ACTION:DISPLAY
DESCRIPTION:Concentración Yala Nafarroa por Palestina
TRIGGER:-PT1H
END:VALARM
END:VEVENT
END:VCALENDAR
